BEGIN:VCALENDAR
VERSION:2.0
PRODID:-//Ballon de Blauwe Vogel - ECPv6.15.17//NONSGML v1.0//EN
CALSCALE:GREGORIAN
METHOD:PUBLISH
X-ORIGINAL-URL:https://www.ballondeblauwevogel.nl
X-WR-CALDESC:Evenementen voor Ballon de Blauwe Vogel
REFRESH-INTERVAL;VALUE=DURATION:PT1H
X-Robots-Tag:noindex
X-PUBLISHED-TTL:PT1H
BEGIN:VTIMEZONE
TZID:UTC
BEGIN:STANDARD
TZOFFSETFROM:+0000
TZOFFSETTO:+0000
TZNAME:UTC
DTSTART:20250101T000000
END:STANDARD
END:VTIMEZONE
BEGIN:VEVENT
DTSTART;TZID=UTC:20260421T173000
DTEND;TZID=UTC:20260421T213000
DTSTAMP:20260421T084826
CREATED:20250730T063427Z
LAST-MODIFIED:20260402T071548Z
UID:2483-1776792600-1776807000@www.ballondeblauwevogel.nl
SUMMARY:Team 't Zunneke (1)
DESCRIPTION:Als het aan ons ligt gaat elke vaart door. Echter: door weersomstandigheden kunnen vaarten nog op het allerlaatste moment afgelast worden. Check daarom altijd op de dag van de vaart om 15:00 uur het vaarschema hieronder! \nVerzameltijd: 17:30\nVertreklocatie: Wordt op de dag zelf bekend gemaakt.
URL:https://www.ballondeblauwevogel.nl/vaart/vaart-nog-niet-toegewezen-29/
END:VEVENT
BEGIN:VEVENT
DTSTART;TZID=UTC:20260423T180000
DTEND;TZID=UTC:20260423T213000
DTSTAMP:20260421T084826
CREATED:20250517T052215Z
LAST-MODIFIED:20260414T080738Z
UID:2388-1776967200-1776979800@www.ballondeblauwevogel.nl
SUMMARY:Team Encanto: Rebecca (1)
DESCRIPTION:Als het aan ons ligt gaat elke vaart door. Echter: door weersomstandigheden kunnen vaarten nog op het allerlaatste moment afgelast worden. Check daarom altijd op de dag van de vaart om 15:00 uur het vaarschema hieronder! \nVerzameltijd: 18:00\nVertreklocatie: Wordt op de dag zelf bekend gemaakt!
URL:https://www.ballondeblauwevogel.nl/vaart/team-adelante-2/
END:VEVENT
BEGIN:VEVENT
DTSTART;TZID=UTC:20260428T173000
DTEND;TZID=UTC:20260428T213000
DTSTAMP:20260421T084826
CREATED:20250628T105243Z
LAST-MODIFIED:20260415T114714Z
UID:2445-1777397400-1777411800@www.ballondeblauwevogel.nl
SUMMARY:Team 'Knoevel' /Team Engelen
DESCRIPTION:Als het aan ons ligt gaat elke vaart door. Echter: door weersomstandigheden kunnen vaarten nog op het allerlaatste moment afgelast worden. Check daarom altijd op de dag van de vaart om 15:00 uur het vaarschema hieronder! \nVerzameltijd: 17:30\nVertreklocatie: Wordt op de dag zelf bekend gemaakt.
URL:https://www.ballondeblauwevogel.nl/vaart/vaart-nog-niet-toegewezen-26/
END:VEVENT
BEGIN:VEVENT
DTSTART;TZID=UTC:20260504T180000
DTEND;TZID=UTC:20260504T210000
DTSTAMP:20260421T084826
CREATED:20250517T052301Z
LAST-MODIFIED:20260413T105431Z
UID:2390-1777917600-1777928400@www.ballondeblauwevogel.nl
SUMMARY:Team Wolfs (Inhaaldatum)
DESCRIPTION:Als het aan ons ligt gaat elke vaart door. Echter: door weersomstandigheden kunnen vaarten nog op het allerlaatste moment afgelast worden. Check daarom altijd op de dag van de vaart om 15:00 uur het vaarschema hieronder! \nVerzameltijd: 18:00\nVertreklocatie: Wordt op de dag zelf bekend gemaakt.
URL:https://www.ballondeblauwevogel.nl/vaart/vaart-nog-niet-toegewezen-15/
END:VEVENT
BEGIN:VEVENT
DTSTART;TZID=UTC:20260505T180000
DTEND;TZID=UTC:20260505T210000
DTSTAMP:20260421T084826
CREATED:20250623T070610Z
LAST-MODIFIED:20260331T145740Z
UID:2434-1778004000-1778014800@www.ballondeblauwevogel.nl
SUMMARY:Vaarteam wordt toegevoegd
DESCRIPTION:Als het aan ons ligt gaat elke vaart door. Echter: door weersomstandigheden kunnen vaarten nog op het allerlaatste moment afgelast worden. Check daarom altijd op de dag van de vaart om 15:00 uur het vaarschema hieronder! \nVerzameltijd: 18:00\nVertreklocatie: Wordt op de dag zelf bekend gemaakt.
URL:https://www.ballondeblauwevogel.nl/vaart/vaart-nog-niet-toegewezen-18/
END:VEVENT
BEGIN:VEVENT
DTSTART;TZID=UTC:20260511T183000
DTEND;TZID=UTC:20260511T210000
DTSTAMP:20260421T084826
CREATED:20250623T070831Z
LAST-MODIFIED:20260409T172322Z
UID:2440-1778524200-1778533200@www.ballondeblauwevogel.nl
SUMMARY:Team Encanto (1)
DESCRIPTION:Als het aan ons ligt gaat elke vaart door. Echter: door weersomstandigheden kunnen vaarten nog op het allerlaatste moment afgelast worden. Check daarom altijd op de dag van de vaart om 15:00 uur het vaarschema hieronder! \nVerzameltijd: 18:30\nVertreklocatie: Wordt op de dag zelf bekend gemaakt.
URL:https://www.ballondeblauwevogel.nl/vaart/vaart-nog-niet-toegewezen-24/
END:VEVENT
BEGIN:VEVENT
DTSTART;TZID=UTC:20260513T183000
DTEND;TZID=UTC:20260513T210000
DTSTAMP:20260421T084826
CREATED:20250730T063615Z
LAST-MODIFIED:20260409T172352Z
UID:2489-1778697000-1778706000@www.ballondeblauwevogel.nl
SUMMARY:Team Encanto (2)
DESCRIPTION:Als het aan ons ligt gaat elke vaart door. Echter: door weersomstandigheden kunnen vaarten nog op het allerlaatste moment afgelast worden. Check daarom altijd op de dag van de vaart om 15:00 uur het vaarschema hieronder! \nVerzameltijd: 18:30\nVertreklocatie: Wordt op de dag zelf bekend gemaakt.
URL:https://www.ballondeblauwevogel.nl/vaart/vaart-nog-niet-toegewezen-32/
END:VEVENT
BEGIN:VEVENT
DTSTART;TZID=UTC:20260519T183000
DTEND;TZID=UTC:20260519T210000
DTSTAMP:20260421T084826
CREATED:20250623T070454Z
LAST-MODIFIED:20260408T114259Z
UID:2430-1779215400-1779224400@www.ballondeblauwevogel.nl
SUMMARY:Team Volders (1 safe-seat)
DESCRIPTION:Als het aan ons ligt gaat elke vaart door. Echter: door weersomstandigheden kunnen vaarten nog op het allerlaatste moment afgelast worden. Check daarom altijd op de dag van de vaart om 15:00 uur het vaarschema hieronder! \nVerzameltijd: 18:30\nVertreklocatie: Wordt op de dag zelf bekend gemaakt.
URL:https://www.ballondeblauwevogel.nl/vaart/vaart-nog-niet-toegewezen-2/
END:VEVENT
BEGIN:VEVENT
DTSTART;TZID=UTC:20260521T183000
DTEND;TZID=UTC:20260521T210000
DTSTAMP:20260421T084826
CREATED:20250517T052521Z
LAST-MODIFIED:20260408T114057Z
UID:2398-1779388200-1779397200@www.ballondeblauwevogel.nl
SUMMARY:Team 'Aan de Pas' (2 safe-seats)
DESCRIPTION:Als het aan ons ligt gaat elke vaart door. Echter: door weersomstandigheden kunnen vaarten nog op het allerlaatste moment afgelast worden. Check daarom altijd op de dag van de vaart om 15:00 uur het vaarschema hieronder! \nVerzameltijd: 18:30\nVertreklocatie: Wordt op de dag zelf bekend gemaakt.
URL:https://www.ballondeblauwevogel.nl/vaart/vaart-nog-niet-toegewezen-21/
END:VEVENT
BEGIN:VEVENT
DTSTART;TZID=UTC:20260525T183000
DTEND;TZID=UTC:20260525T210000
DTSTAMP:20260421T084826
CREATED:20250517T052334Z
LAST-MODIFIED:20260408T114003Z
UID:2392-1779733800-1779742800@www.ballondeblauwevogel.nl
SUMMARY:Vaarteam wordt nog toegevoegd
DESCRIPTION:Als het aan ons ligt gaat elke vaart door. Echter: door weersomstandigheden kunnen vaarten nog op het allerlaatste moment afgelast worden. Check daarom altijd op de dag van de vaart om 15:00 uur het vaarschema hieronder! \nVerzameltijd: 18:30\nVertreklocatie: Wordt op de dag zelf bekend gemaakt.
URL:https://www.ballondeblauwevogel.nl/vaart/vaart-nog-niet-toegewezen-16/
END:VEVENT
BEGIN:VEVENT
DTSTART;TZID=UTC:20260528T173000
DTEND;TZID=UTC:20260528T213000
DTSTAMP:20260421T084826
CREATED:20250730T063334Z
LAST-MODIFIED:20260413T105920Z
UID:2479-1779989400-1780003800@www.ballondeblauwevogel.nl
SUMMARY:Loterijwinnaars BBV: Team Habets\, 1 Safe-seat (Met overnachting Korenwolf)
DESCRIPTION:Als het aan ons ligt gaat elke vaart door. Echter: door weersomstandigheden kunnen vaarten nog op het allerlaatste moment afgelast worden. Check daarom altijd op de dag van de vaart om 15:00 uur het vaarschema hieronder! \nVerzameltijd: 18:00\nVertreklocatie: Wordt op de dag zelf bekend gemaakt.
URL:https://www.ballondeblauwevogel.nl/vaart/vaart-nog-niet-toegewezen-27/
END:VEVENT
END:VCALENDAR